BEGIN:VCALENDAR
VERSION:2.0
PRODID:-//ChamberMaster//Event Calendar 2.0//EN
METHOD:PUBLISH
X-PUBLISHED-TTL:P1H
REFRESH-INTERVAL:P1H
CALSCALE:GREGORIAN
BEGIN:VTIMEZONE
TZID:America/Los_Angeles
BEGIN:DAYLIGHT
RRULE:FREQ=YEARLY;BYMONTH=3;BYDAY=2SU
DTSTART:20070101T000000
TZOFFSETFROM:-0800
TZOFFSETTO:-0700
TZNAME:Pacific Daylight Time
END:DAYLIGHT
BEGIN:STANDARD
RRULE:FREQ=YEARLY;BYMONTH=11;BYDAY=1SU
DTSTART:20070101T000000
TZOFFSETFROM:-0700
TZOFFSETTO:-0800
TZNAME:Pacific Standard Time
END:STANDARD
END:VTIMEZONE
BEGIN:VEVENT
DTSTART;TZID=America/Los_Angeles:20260428T080000
DTEND;TZID=America/Los_Angeles:20260428T150000
X-MICROSOFT-CDO-ALLDAYEVENT:FALSE
SUMMARY:BIAW Project Management class hosted by Remodelers Council
DESCRIPTION:Join us at Parr Lumber for a project management course that covers concepts and strategies to get a home-building project built on time\, on budget\, and with a happy customer. This class will take place at Parr Lumber and will be taught by Andy Arrants\, the BIAW Education and Audio Visual Manager.This course is $50 for both members and non-members. If you are interested in attending\, please register through the BIAW website by using the link HERE.
X-ALT-DESC;FMTTYPE=text/html:<!DOCTYPE html><html><head><title></title></head><body aria-disabled="false" data-gr-ext-installed="" data-new-gr-c-s-check-loaded="14.1282.0" data-new-gr-c-s-loaded="14.1282.0"><p><meta charset="utf-8"></p><p><span style="font-family: Tahoma\, Geneva\, sans-serif\; color: rgb(0\, 0\, 0)\;">Join us at Parr Lumber for a project management course that covers<span style="float: none\; font-style: normal\; font-variant-ligatures: normal\; font-variant-caps: normal\; font-weight: 400\; letter-spacing: normal\; orphans: 2\; text-align: start\; text-indent: 0px\; text-transform: none\; widows: 2\; word-spacing: 0px\; -webkit-text-stroke-width: 0px\; white-space: normal\; background-color: rgb(255\, 255\, 255)\; text-decoration-thickness: initial\; text-decoration-style: initial\; text-decoration-color: initial\; font-size: 16px\; display: inline !important\;">&nbsp\;concepts and strategies to get a home-building project built on time\, on budget\, and with a happy customer.</span><span style="font-style: normal\; font-variant-ligatures: normal\; font-variant-caps: normal\; font-weight: 400\; letter-spacing: normal\; orphans: 2\; text-align: start\; text-indent: 0px\; text-transform: none\; widows: 2\; word-spacing: 0px\; -webkit-text-stroke-width: 0px\; white-space: normal\; background-color: rgb(255\, 255\, 255)\; text-decoration-thickness: initial\; text-decoration-style: initial\; text-decoration-color: initial\; font-size: 16px\;">&nbsp\;</span></span></p><p><span style="color: rgb(0\, 0\, 0)\;"><span style="font-family: Tahoma\,Geneva\,sans-serif\;">This class will take place at Parr Lumber and will be taught by Andy Arrants\, the <span style="font-size: 16px\; font-style: normal\; font-variant-ligatures: normal\; font-variant-caps: normal\; font-weight: 500\; letter-spacing: normal\; orphans: 2\; text-align: left\; text-indent: 0px\; text-transform: none\; widows: 2\; word-spacing: 0px\; -webkit-text-stroke-width: 0px\; white-space: normal\; background-color: rgb(255\, 255\, 255)\; text-decoration-thickness: initial\; text-decoration-style: initial\; text-decoration-color: initial\; float: none\; display: inline !important\;">BIAW Education and Audio Visual Manager.</span></span></span></p><p><span style="font-family: Tahoma\, Geneva\, sans-serif\;"><span style="color: rgb(0\, 0\, 0)\;">This course is $50 for both members and non-members. If you are interested in attending\, please register through the BIAW website by using the link</span> <a fr-original-style="" href="https://www.biaw.com/classes/project-management-5932" rel="noopener noreferrer" style="user-select: auto\;" target="_blank"><u>HERE</u></a><u>.</u></span></p><p><br></p></body></html>
LOCATION:4111 E FRANCIS AVE SPOKANE WA 99217
UID:e.891.1443847
SEQUENCE:3
DTSTAMP:20260423T001512Z
URL:https://info.shba.com/classes/Details/biaw-project-management-class-hosted-by-remodelers-council-1710093?sourceTypeId=Hub
END:VEVENT
END:VCALENDAR
